BEGIN:VCALENDAR
VERSION:2.0
PRODID:-//wp-events-plugin.com//7.2.3.1//EN
TZID:Europe/Berlin
X-WR-TIMEZONE:Europe/Berlin
BEGIN:VEVENT
UID:125@lolo-moon.page
DTSTART;TZID=Europe/Berlin:20260423T000000
DTEND;TZID=Europe/Berlin:20260426T000000
DTSTAMP:20260129T114730Z
URL:https://lolo-moon.page/events/bruesselexkursion/
SUMMARY:Brüsselexkursion
DESCRIPTION:Hier findet ihr die Informationen zur Exkursion: Präsentation
  Brüssel\n\nWichtigste Infos:\nAnmeldung bis zum 02.02.2026\n1 Woche nach
  Platzzusage ist die Zahlungsfrist\n\nAnreise: Donnerstag\, 23. April um 6
 :49 am HBF Stuttgart --&gt\; 11:35 Uhr Brüssel Süd\nAbreise: Sonntag\, 2
 6. April um 14:25 Uhr von Brüssel Süd --&gt\; 19:11 Uhr Stuttgart HBF (b
 itti deutsche bahni)\n\nUnterkunft: Safestay Brüssel Grand Place (4-Bett 
 Zimmer)
CATEGORIES:Fachgruppenevent
END:VEVENT
BEGIN:VTIMEZONE
TZID:Europe/Berlin
X-LIC-LOCATION:Europe/Berlin
BEGIN:DAYLIGHT
DTSTART:20260329T030000
TZOFFSETFROM:+0100
TZOFFSETTO:+0200
TZNAME:CEST
END:DAYLIGHT
END:VTIMEZONE
END:VCALENDAR