BEGIN:VCALENDAR
VERSION:2.0
PRODID:-//wp-events-plugin.com//7.2.3.1//EN
TZID:Europe/Berlin
X-WR-TIMEZONE:Europe/Berlin
BEGIN:VEVENT
UID:139@lolo-moon.page
DTSTART;TZID=Europe/Berlin:20260623T191500
DTEND;TZID=Europe/Berlin:20260623T200000
DTSTAMP:20260421T131730Z
URL:https://lolo-moon.page/events/fachgruppensitzung-2/
SUMMARY:Fachgruppensitzung
DESCRIPTION:
CATEGORIES:Fachgruppensitzung
LOCATION:Fachgruppenraum\, Keplerstraße 17 (Raum 2.26)\, Stuttgart\, Deuts
 chland
X-APPLE-STRUCTURED-LOCATION;VALUE=URI;X-ADDRESS=Keplerstraße 17 (Raum 2.26
 )\, Stuttgart\, Deutschland;X-APPLE-RADIUS=100;X-TITLE=Fachgruppenraum:geo
 :0,0
END:VEVENT
BEGIN:VTIMEZONE
TZID:Europe/Berlin
X-LIC-LOCATION:Europe/Berlin
BEGIN:DAYLIGHT
DTSTART:20260329T030000
TZOFFSETFROM:+0100
TZOFFSETTO:+0200
TZNAME:CEST
END:DAYLIGHT
END:VTIMEZONE
END:VCALENDAR